BEGIN:VCALENDAR
VERSION:2.0
PRODID:-//ΟΠΑ - ECPv5.2.0//NONSGML v1.0//EN
CALSCALE:GREGORIAN
METHOD:PUBLISH
X-WR-CALNAME:ΟΠΑ
X-ORIGINAL-URL:https://paradosiakoi.gr
X-WR-CALDESC:ΟΠΑ - Εκδηλώσεις
BEGIN:VTIMEZONE
TZID:UTC
BEGIN:STANDARD
TZOFFSETFROM:+0000
TZOFFSETTO:+0000
TZNAME:UTC
DTSTART:20150101T000000
END:STANDARD
END:VTIMEZONE
BEGIN:VEVENT
DTSTART;TZID=UTC:20151121T180000
DTEND;TZID=UTC:20151121T180000
DTSTAMP:20260419T124027
CREATED:20151110T203652Z
LAST-MODIFIED:20151110T203652Z
UID:513-1448128800-1448128800@paradosiakoi.gr
SUMMARY:Τα Εγκαίνια Μας !!!
DESCRIPTION:Με μεγάλη μας χαρά σας προσκαλούμε στα εγκαίνιά μας το Σάββατο 21 Νοεμβρίου \nκαι ώρα 18:00 στην Αίθουσα μας που βρίσκεται στην οδό 25 Μαρτίου 43\, Αργυρούπολη. 
URL:https://paradosiakoi.gr/event/egainia/
LOCATION:Ο.Π.Α.\, 25ης Μαρτίου 43\, Αργυρούπολη\, Αττική\, 16452\, Ελλάδα
END:VEVENT
END:VCALENDAR