BEGIN:VCALENDAR
VERSION:2.0
PRODID:-//ΟΠΑ - ECPv5.2.0//NONSGML v1.0//EN
CALSCALE:GREGORIAN
METHOD:PUBLISH
X-WR-CALNAME:ΟΠΑ
X-ORIGINAL-URL:https://paradosiakoi.gr
X-WR-CALDESC:ΟΠΑ - Εκδηλώσεις
BEGIN:VTIMEZONE
TZID:UTC
BEGIN:STANDARD
TZOFFSETFROM:+0000
TZOFFSETTO:+0000
TZNAME:UTC
DTSTART:20150101T000000
END:STANDARD
END:VTIMEZONE
BEGIN:VEVENT
DTSTART;TZID=UTC:20151105T200000
DTEND;TZID=UTC:20151105T200000
DTSTAMP:20260419T181849
CREATED:20151103T195513Z
LAST-MODIFIED:20151103T195513Z
UID:508-1446753600-1446753600@paradosiakoi.gr
SUMMARY:Πέμπτη 05/11!!
DESCRIPTION:  \nΓλεντάμε ελεύθερα (πάρτε μαζί σας και την παρέα σας!!!!)
URL:https://paradosiakoi.gr/event/%cf%80%ce%ad%ce%bc%cf%80%cf%84%ce%b7-0511/
LOCATION:Ο.Π.Α.\, 25ης Μαρτίου 43\, Αργυρούπολη\, Αττική\, 16452\, Ελλάδα
END:VEVENT
END:VCALENDAR